BEGIN:VCALENDAR
VERSION:2.0
PRODID:icalendar-ruby
CALSCALE:GREGORIAN
METHOD:PUBLISH
BEGIN:VEVENT
DTSTAMP:20260421T111508Z
UID:58-1194000@hopecitychurchduluth.org
DTSTART:20260423T233000Z
DTEND:20260424T013000Z
CLASS:PUBLIC
CREATED:20260420T115613
DESCRIPTION:Let's come together &amp\; pray. Thursday\, April 23 at 6:30pm
LAST-MODIFIED:20260420T115613
LOCATION:417 N 3rd Ave E\, Duluth MN
SUMMARY:Prayer Night
URL;VALUE=URI:https://hopecitychurchduluth.org/events/prayer-night--58/2026
 -04-23
ATTACH;FILENAME=Prayer--Worship-Night.png;FMTTYPE=image/png:https://dq5pwpg
 1q8ru0.cloudfront.net/2026/04/20/16/56/13/4d1b91cf-380d-4125-bc41-c382fe19
 f542/Prayer--Worship-Night.png
END:VEVENT
END:VCALENDAR
